BEGIN:VCALENDAR
VERSION:2.0
PRODID:-//Southwest Sports Wellness Foundation - ECPv6.15.20//NONSGML v1.0//EN
CALSCALE:GREGORIAN
METHOD:PUBLISH
X-WR-CALNAME:Southwest Sports Wellness Foundation
X-ORIGINAL-URL:https://swswf.org
X-WR-CALDESC:Events for Southwest Sports Wellness Foundation
REFRESH-INTERVAL;VALUE=DURATION:PT1H
X-Robots-Tag:noindex
X-PUBLISHED-TTL:PT1H
BEGIN:VTIMEZONE
TZID:UTC
BEGIN:STANDARD
TZOFFSETFROM:+0000
TZOFFSETTO:+0000
TZNAME:UTC
DTSTART:20250101T000000
END:STANDARD
END:VTIMEZONE
BEGIN:VEVENT
DTSTART;TZID=UTC:20260423T120000
DTEND;TZID=UTC:20260423T170000
DTSTAMP:20260421T162046
CREATED:20250725T184339Z
LAST-MODIFIED:20251203T214010Z
UID:1300-1776945600-1776963600@swswf.org
SUMMARY:SUHSD Sports Injury Clinic & Wellness Center
DESCRIPTION:—This date is By Appointment Only—670 L Street\, Suite G • Chula Vista CA 91911\n\n\n\nIMPORTANT!\n\n\n\nBring Completed Referral FORM with you.Appointment Info: All minors MUST be accompanied by a parent or guardian. \n\n\n\nDownload: L Street Referral Form
URL:https://swswf.org/event/suhsd-sports-injury-clinic-wellness-center-18/
LOCATION:SUHSD Sports Injury Clinic & Wellness Center\, 670 L Street\, Suite G\, Chula Vista\, California\, 91911\, United States
CATEGORIES:L Street Center
ATTACH;FMTTYPE=image/jpeg:https://swswf.org/wp-content/uploads/2024/10/Event_SUHSD_700x5000.jpg
END:VEVENT
BEGIN:VEVENT
DTSTART;TZID=UTC:20260423T120000
DTEND;TZID=UTC:20260423T170000
DTSTAMP:20260421T162046
CREATED:20250725T185254Z
LAST-MODIFIED:20251203T214915Z
UID:1340-1776945600-1776963600@swswf.org
SUMMARY:SUHSD Sports Injury Clinic & Wellness Center
DESCRIPTION:—This date is By Appointment Only—670 L Street\, Suite G • Chula Vista CA 91911\n\n\n\nIMPORTANT!\n\n\n\nBring Completed Referral FORM with you.Appointment Info: All minors MUST be accompanied by a parent or guardian. \n\n\n\nDownload: L Street Referral Form
URL:https://swswf.org/event/suhsd-sports-injury-clinic-wellness-center-38/
LOCATION:SUHSD Sports Injury Clinic & Wellness Center\, 670 L Street\, Suite G\, Chula Vista\, California\, 91911\, United States
CATEGORIES:L Street Center
ATTACH;FMTTYPE=image/jpeg:https://swswf.org/wp-content/uploads/2024/10/Event_SUHSD_700x5000.jpg
END:VEVENT
END:VCALENDAR