BEGIN:VCALENDAR
VERSION:2.0
PRODID:-//Southwest Sports Wellness Foundation - ECPv6.15.20//NONSGML v1.0//EN
CALSCALE:GREGORIAN
METHOD:PUBLISH
X-ORIGINAL-URL:https://swswf.org
X-WR-CALDESC:Events for Southwest Sports Wellness Foundation
REFRESH-INTERVAL;VALUE=DURATION:PT1H
X-Robots-Tag:noindex
X-PUBLISHED-TTL:PT1H
BEGIN:VTIMEZONE
TZID:UTC
BEGIN:STANDARD
TZOFFSETFROM:+0000
TZOFFSETTO:+0000
TZNAME:UTC
DTSTART:20250101T000000
END:STANDARD
END:VTIMEZONE
BEGIN:VEVENT
DTSTART;TZID=UTC:20260212T120000
DTEND;TZID=UTC:20260212T170000
DTSTAMP:20260423T120102
CREATED:20250725T184444Z
LAST-MODIFIED:20251203T214636Z
UID:1304-1770897600-1770915600@swswf.org
SUMMARY:SUHSD Sports Injury Clinic & Wellness Center
DESCRIPTION:—This date is By Appointment Only—670 L Street\, Suite G • Chula Vista CA 91911\n\n\n\nIMPORTANT!\n\n\n\nBring Completed Referral FORM with you.Appointment Info: All minors MUST be accompanied by a parent or guardian. \n\n\n\nDownload: L Street Referral Form
URL:https://swswf.org/event/suhsd-sports-injury-clinic-wellness-center-20/
LOCATION:SUHSD Sports Injury Clinic & Wellness Center\, 670 L Street\, Suite G\, Chula Vista\, California\, 91911\, United States
CATEGORIES:L Street Center
ATTACH;FMTTYPE=image/jpeg:https://swswf.org/wp-content/uploads/2024/10/Event_SUHSD_700x5000.jpg
END:VEVENT
BEGIN:VEVENT
DTSTART;TZID=UTC:20260223T120000
DTEND;TZID=UTC:20260223T170000
DTSTAMP:20260423T120103
CREATED:20250725T184921Z
LAST-MODIFIED:20251203T213431Z
UID:1326-1771848000-1771866000@swswf.org
SUMMARY:SUHSD Sports Injury Clinic & Wellness Center
DESCRIPTION:—This date is By Appointment Only—670 L Street\, Suite G • Chula Vista CA 91911\n\n\n\nIMPORTANT!\n\n\n\nBring Completed Referral FORM with you.Appointment Info: All minors MUST be accompanied by a parent or guardian. \n\n\n\nDownload: L Street Referral Form
URL:https://swswf.org/event/suhsd-sports-injury-clinic-wellness-center-31/
LOCATION:SUHSD Sports Injury Clinic & Wellness Center\, 670 L Street\, Suite G\, Chula Vista\, California\, 91911\, United States
CATEGORIES:L Street Center
ATTACH;FMTTYPE=image/jpeg:https://swswf.org/wp-content/uploads/2024/10/Event_SUHSD_700x5000.jpg
END:VEVENT
BEGIN:VEVENT
DTSTART;TZID=UTC:20260226T120000
DTEND;TZID=UTC:20260226T170000
DTSTAMP:20260423T120103
CREATED:20250725T185154Z
LAST-MODIFIED:20251203T214659Z
UID:1336-1772107200-1772125200@swswf.org
SUMMARY:SUHSD Sports Injury Clinic & Wellness Center
DESCRIPTION:—This date is By Appointment Only—670 L Street\, Suite G • Chula Vista CA 91911\n\n\n\nIMPORTANT!\n\n\n\nBring Completed Referral FORM with you.Appointment Info: All minors MUST be accompanied by a parent or guardian. \n\n\n\nDownload: L Street Referral Form
URL:https://swswf.org/event/suhsd-sports-injury-clinic-wellness-center-36/
LOCATION:SUHSD Sports Injury Clinic & Wellness Center\, 670 L Street\, Suite G\, Chula Vista\, California\, 91911\, United States
CATEGORIES:L Street Center
ATTACH;FMTTYPE=image/jpeg:https://swswf.org/wp-content/uploads/2024/10/Event_SUHSD_700x5000.jpg
END:VEVENT
BEGIN:VEVENT
DTSTART;TZID=UTC:20260302T120000
DTEND;TZID=UTC:20260302T170000
DTSTAMP:20260423T120103
CREATED:20241016T005032Z
LAST-MODIFIED:20251203T213451Z
UID:1171-1772452800-1772470800@swswf.org
SUMMARY:SUHSD Sports Injury Clinic & Wellness Center
DESCRIPTION:—This date is By Appointment Only—670 L Street\, Suite G • Chula Vista CA 91911\n\n\n\nIMPORTANT!\n\n\n\nBring Completed Referral FORM with you.Appointment Info: All minors MUST be accompanied by a parent or guardian. \n\n\n\nDownload: L Street Referral Form
URL:https://swswf.org/event/suhsd-sports-injury-clinic-wellness-center/
LOCATION:SUHSD Sports Injury Clinic & Wellness Center\, 670 L Street\, Suite G\, Chula Vista\, California\, 91911\, United States
CATEGORIES:L Street Center
ATTACH;FMTTYPE=image/jpeg:https://swswf.org/wp-content/uploads/2024/10/Event_SUHSD_700x5000.jpg
END:VEVENT
BEGIN:VEVENT
DTSTART;TZID=UTC:20260305T120000
DTEND;TZID=UTC:20260305T170000
DTSTAMP:20260423T120103
CREATED:20241217T173925Z
LAST-MODIFIED:20251203T214727Z
UID:1249-1772712000-1772730000@swswf.org
SUMMARY:SUHSD Sports Injury Clinic & Wellness Center
DESCRIPTION:—This date is By Appointment Only—670 L Street\, Suite G • Chula Vista CA 91911\n\n\n\nIMPORTANT!\n\n\n\nBring Completed Referral FORM with you.Appointment Info: All minors MUST be accompanied by a parent or guardian. \n\n\n\nDownload: L Street Referral Form
URL:https://swswf.org/event/suhsd-sports-injury-clinic-wellness-center-8/
LOCATION:SUHSD Sports Injury Clinic & Wellness Center\, 670 L Street\, Suite G\, Chula Vista\, California\, 91911\, United States
CATEGORIES:L Street Center
ATTACH;FMTTYPE=image/jpeg:https://swswf.org/wp-content/uploads/2024/10/Event_SUHSD_700x5000.jpg
END:VEVENT
BEGIN:VEVENT
DTSTART;TZID=UTC:20260309T120000
DTEND;TZID=UTC:20260309T170000
DTSTAMP:20260423T120103
CREATED:20250725T184309Z
LAST-MODIFIED:20251203T213814Z
UID:1298-1773057600-1773075600@swswf.org
SUMMARY:SUHSD Sports Injury Clinic & Wellness Center
DESCRIPTION:—This date is By Appointment Only—670 L Street\, Suite G • Chula Vista CA 91911\n\n\n\nIMPORTANT!\n\n\n\nBring Completed Referral FORM with you.Appointment Info: All minors MUST be accompanied by a parent or guardian. \n\n\n\nDownload: L Street Referral Form
URL:https://swswf.org/event/suhsd-sports-injury-clinic-wellness-center-17/
LOCATION:SUHSD Sports Injury Clinic & Wellness Center\, 670 L Street\, Suite G\, Chula Vista\, California\, 91911\, United States
CATEGORIES:L Street Center
ATTACH;FMTTYPE=image/jpeg:https://swswf.org/wp-content/uploads/2024/10/Event_SUHSD_700x5000.jpg
END:VEVENT
BEGIN:VEVENT
DTSTART;TZID=UTC:20260312T120000
DTEND;TZID=UTC:20260312T170000
DTSTAMP:20260423T120103
CREATED:20250725T184507Z
LAST-MODIFIED:20251203T214744Z
UID:1306-1773316800-1773334800@swswf.org
SUMMARY:SUHSD Sports Injury Clinic & Wellness Center
DESCRIPTION:—This date is By Appointment Only—670 L Street\, Suite G • Chula Vista CA 91911\n\n\n\nIMPORTANT!\n\n\n\nBring Completed Referral FORM with you.Appointment Info: All minors MUST be accompanied by a parent or guardian. \n\n\n\nDownload: L Street Referral Form
URL:https://swswf.org/event/suhsd-sports-injury-clinic-wellness-center-21/
LOCATION:SUHSD Sports Injury Clinic & Wellness Center\, 670 L Street\, Suite G\, Chula Vista\, California\, 91911\, United States
CATEGORIES:L Street Center
ATTACH;FMTTYPE=image/jpeg:https://swswf.org/wp-content/uploads/2024/10/Event_SUHSD_700x5000.jpg
END:VEVENT
BEGIN:VEVENT
DTSTART;TZID=UTC:20260316T120000
DTEND;TZID=UTC:20260316T170000
DTSTAMP:20260423T120103
CREATED:20250725T184950Z
LAST-MODIFIED:20251203T213834Z
UID:1328-1773662400-1773680400@swswf.org
SUMMARY:SUHSD Sports Injury Clinic & Wellness Center
DESCRIPTION:—This date is By Appointment Only—670 L Street\, Suite G • Chula Vista CA 91911\n\n\n\nIMPORTANT!\n\n\n\nBring Completed Referral FORM with you.Appointment Info: All minors MUST be accompanied by a parent or guardian. \n\n\n\nDownload: L Street Referral Form
URL:https://swswf.org/event/suhsd-sports-injury-clinic-wellness-center-32/
LOCATION:SUHSD Sports Injury Clinic & Wellness Center\, 670 L Street\, Suite G\, Chula Vista\, California\, 91911\, United States
CATEGORIES:L Street Center
ATTACH;FMTTYPE=image/jpeg:https://swswf.org/wp-content/uploads/2024/10/Event_SUHSD_700x5000.jpg
END:VEVENT
BEGIN:VEVENT
DTSTART;TZID=UTC:20260319T120000
DTEND;TZID=UTC:20260319T170000
DTSTAMP:20260423T120103
CREATED:20250725T185231Z
LAST-MODIFIED:20251203T214814Z
UID:1338-1773921600-1773939600@swswf.org
SUMMARY:SUHSD Sports Injury Clinic & Wellness Center
DESCRIPTION:—This date is By Appointment Only—670 L Street\, Suite G • Chula Vista CA 91911\n\n\n\nIMPORTANT!\n\n\n\nBring Completed Referral FORM with you.Appointment Info: All minors MUST be accompanied by a parent or guardian. \n\n\n\nDownload: L Street Referral Form
URL:https://swswf.org/event/suhsd-sports-injury-clinic-wellness-center-37/
LOCATION:SUHSD Sports Injury Clinic & Wellness Center\, 670 L Street\, Suite G\, Chula Vista\, California\, 91911\, United States
CATEGORIES:L Street Center
ATTACH;FMTTYPE=image/jpeg:https://swswf.org/wp-content/uploads/2024/10/Event_SUHSD_700x5000.jpg
END:VEVENT
BEGIN:VEVENT
DTSTART;TZID=UTC:20260406T120000
DTEND;TZID=UTC:20260406T170000
DTSTAMP:20260423T120103
CREATED:20241016T202357Z
LAST-MODIFIED:20251203T213855Z
UID:1246-1775476800-1775494800@swswf.org
SUMMARY:SUHSD Sports Injury Clinic & Wellness Center
DESCRIPTION:—This date is By Appointment Only—670 L Street\, Suite G • Chula Vista CA 91911\n\n\n\nIMPORTANT!\n\n\n\nBring Completed Referral FORM with you.Appointment Info: All minors MUST be accompanied by a parent or guardian. \n\n\n\nDownload: L Street Referral Form
URL:https://swswf.org/event/suhsd-sports-injury-clinic-wellness-center-7/
LOCATION:SUHSD Sports Injury Clinic & Wellness Center\, 670 L Street\, Suite G\, Chula Vista\, California\, 91911\, United States
CATEGORIES:L Street Center
ATTACH;FMTTYPE=image/jpeg:https://swswf.org/wp-content/uploads/2024/10/Event_SUHSD_700x5000.jpg
END:VEVENT
BEGIN:VEVENT
DTSTART;TZID=UTC:20260409T120000
DTEND;TZID=UTC:20260409T170000
DTSTAMP:20260423T120103
CREATED:20250725T183746Z
LAST-MODIFIED:20251203T214835Z
UID:1282-1775736000-1775754000@swswf.org
SUMMARY:SUHSD Sports Injury Clinic & Wellness Center
DESCRIPTION:—This date is By Appointment Only—670 L Street\, Suite G • Chula Vista CA 91911\n\n\n\nIMPORTANT!\n\n\n\nBring Completed Referral FORM with you.Appointment Info: All minors MUST be accompanied by a parent or guardian. \n\n\n\nDownload: L Street Referral Form
URL:https://swswf.org/event/suhsd-sports-injury-clinic-wellness-center-9/
LOCATION:SUHSD Sports Injury Clinic & Wellness Center\, 670 L Street\, Suite G\, Chula Vista\, California\, 91911\, United States
CATEGORIES:L Street Center
ATTACH;FMTTYPE=image/jpeg:https://swswf.org/wp-content/uploads/2024/10/Event_SUHSD_700x5000.jpg
END:VEVENT
BEGIN:VEVENT
DTSTART;TZID=UTC:20260413T120000
DTEND;TZID=UTC:20260413T170000
DTSTAMP:20260423T120103
CREATED:20250725T185023Z
LAST-MODIFIED:20251203T213926Z
UID:1330-1776081600-1776099600@swswf.org
SUMMARY:SUHSD Sports Injury Clinic & Wellness Center
DESCRIPTION:—This date is By Appointment Only—670 L Street\, Suite G • Chula Vista CA 91911\n\n\n\nIMPORTANT!\n\n\n\nBring Completed Referral FORM with you.Appointment Info: All minors MUST be accompanied by a parent or guardian. \n\n\n\nDownload: L Street Referral Form
URL:https://swswf.org/event/suhsd-sports-injury-clinic-wellness-center-33/
LOCATION:SUHSD Sports Injury Clinic & Wellness Center\, 670 L Street\, Suite G\, Chula Vista\, California\, 91911\, United States
CATEGORIES:L Street Center
ATTACH;FMTTYPE=image/jpeg:https://swswf.org/wp-content/uploads/2024/10/Event_SUHSD_700x5000.jpg
END:VEVENT
BEGIN:VEVENT
DTSTART;TZID=UTC:20260416T120000
DTEND;TZID=UTC:20260416T170000
DTSTAMP:20260423T120103
CREATED:20250725T184531Z
LAST-MODIFIED:20251203T214855Z
UID:1308-1776340800-1776358800@swswf.org
SUMMARY:SUHSD Sports Injury Clinic & Wellness Center
DESCRIPTION:—This date is By Appointment Only—670 L Street\, Suite G • Chula Vista CA 91911\n\n\n\nIMPORTANT!\n\n\n\nBring Completed Referral FORM with you.Appointment Info: All minors MUST be accompanied by a parent or guardian. \n\n\n\nDownload: L Street Referral Form
URL:https://swswf.org/event/suhsd-sports-injury-clinic-wellness-center-22/
LOCATION:SUHSD Sports Injury Clinic & Wellness Center\, 670 L Street\, Suite G\, Chula Vista\, California\, 91911\, United States
CATEGORIES:L Street Center
ATTACH;FMTTYPE=image/jpeg:https://swswf.org/wp-content/uploads/2024/10/Event_SUHSD_700x5000.jpg
END:VEVENT
BEGIN:VEVENT
DTSTART;TZID=UTC:20260420T120000
DTEND;TZID=UTC:20260420T170000
DTSTAMP:20260423T120103
CREATED:20241016T202328Z
LAST-MODIFIED:20251203T213944Z
UID:1244-1776686400-1776704400@swswf.org
SUMMARY:SUHSD Sports Injury Clinic & Wellness Center
DESCRIPTION:—This date is By Appointment Only—670 L Street\, Suite G • Chula Vista CA 91911\n\n\n\nIMPORTANT!\n\n\n\nBring Completed Referral FORM with you.Appointment Info: All minors MUST be accompanied by a parent or guardian. \n\n\n\nDownload: L Street Referral Form
URL:https://swswf.org/event/suhsd-sports-injury-clinic-wellness-center-6/
LOCATION:SUHSD Sports Injury Clinic & Wellness Center\, 670 L Street\, Suite G\, Chula Vista\, California\, 91911\, United States
CATEGORIES:L Street Center
ATTACH;FMTTYPE=image/jpeg:https://swswf.org/wp-content/uploads/2024/10/Event_SUHSD_700x5000.jpg
END:VEVENT
BEGIN:VEVENT
DTSTART;TZID=UTC:20260423T120000
DTEND;TZID=UTC:20260423T170000
DTSTAMP:20260423T120103
CREATED:20250725T184339Z
LAST-MODIFIED:20251203T214010Z
UID:1300-1776945600-1776963600@swswf.org
SUMMARY:SUHSD Sports Injury Clinic & Wellness Center
DESCRIPTION:—This date is By Appointment Only—670 L Street\, Suite G • Chula Vista CA 91911\n\n\n\nIMPORTANT!\n\n\n\nBring Completed Referral FORM with you.Appointment Info: All minors MUST be accompanied by a parent or guardian. \n\n\n\nDownload: L Street Referral Form
URL:https://swswf.org/event/suhsd-sports-injury-clinic-wellness-center-18/
LOCATION:SUHSD Sports Injury Clinic & Wellness Center\, 670 L Street\, Suite G\, Chula Vista\, California\, 91911\, United States
CATEGORIES:L Street Center
ATTACH;FMTTYPE=image/jpeg:https://swswf.org/wp-content/uploads/2024/10/Event_SUHSD_700x5000.jpg
END:VEVENT
BEGIN:VEVENT
DTSTART;TZID=UTC:20260423T120000
DTEND;TZID=UTC:20260423T170000
DTSTAMP:20260423T120103
CREATED:20250725T185254Z
LAST-MODIFIED:20251203T214915Z
UID:1340-1776945600-1776963600@swswf.org
SUMMARY:SUHSD Sports Injury Clinic & Wellness Center
DESCRIPTION:—This date is By Appointment Only—670 L Street\, Suite G • Chula Vista CA 91911\n\n\n\nIMPORTANT!\n\n\n\nBring Completed Referral FORM with you.Appointment Info: All minors MUST be accompanied by a parent or guardian. \n\n\n\nDownload: L Street Referral Form
URL:https://swswf.org/event/suhsd-sports-injury-clinic-wellness-center-38/
LOCATION:SUHSD Sports Injury Clinic & Wellness Center\, 670 L Street\, Suite G\, Chula Vista\, California\, 91911\, United States
CATEGORIES:L Street Center
ATTACH;FMTTYPE=image/jpeg:https://swswf.org/wp-content/uploads/2024/10/Event_SUHSD_700x5000.jpg
END:VEVENT
BEGIN:VEVENT
DTSTART;TZID=UTC:20260427T120000
DTEND;TZID=UTC:20260427T170000
DTSTAMP:20260423T120103
CREATED:20250725T185102Z
LAST-MODIFIED:20251203T214027Z
UID:1332-1777291200-1777309200@swswf.org
SUMMARY:SUHSD Sports Injury Clinic & Wellness Center
DESCRIPTION:—This date is By Appointment Only—670 L Street\, Suite G • Chula Vista CA 91911\n\n\n\nIMPORTANT!\n\n\n\nBring Completed Referral FORM with you.Appointment Info: All minors MUST be accompanied by a parent or guardian. \n\n\n\nDownload: L Street Referral Form
URL:https://swswf.org/event/suhsd-sports-injury-clinic-wellness-center-34/
LOCATION:SUHSD Sports Injury Clinic & Wellness Center\, 670 L Street\, Suite G\, Chula Vista\, California\, 91911\, United States
CATEGORIES:L Street Center
ATTACH;FMTTYPE=image/jpeg:https://swswf.org/wp-content/uploads/2024/10/Event_SUHSD_700x5000.jpg
END:VEVENT
BEGIN:VEVENT
DTSTART;TZID=UTC:20260430T120000
DTEND;TZID=UTC:20260430T170000
DTSTAMP:20260423T120103
CREATED:20250725T183813Z
LAST-MODIFIED:20251203T214938Z
UID:1284-1777550400-1777568400@swswf.org
SUMMARY:SUHSD Sports Injury Clinic & Wellness Center
DESCRIPTION:—This date is By Appointment Only—670 L Street\, Suite G • Chula Vista CA 91911\n\n\n\nIMPORTANT!\n\n\n\nBring Completed Referral FORM with you.Appointment Info: All minors MUST be accompanied by a parent or guardian. \n\n\n\nDownload: L Street Referral Form
URL:https://swswf.org/event/suhsd-sports-injury-clinic-wellness-center-10/
LOCATION:SUHSD Sports Injury Clinic & Wellness Center\, 670 L Street\, Suite G\, Chula Vista\, California\, 91911\, United States
CATEGORIES:L Street Center
ATTACH;FMTTYPE=image/jpeg:https://swswf.org/wp-content/uploads/2024/10/Event_SUHSD_700x5000.jpg
END:VEVENT
BEGIN:VEVENT
DTSTART;TZID=UTC:20260504T120000
DTEND;TZID=UTC:20260504T170000
DTSTAMP:20260423T120103
CREATED:20241016T202159Z
LAST-MODIFIED:20251203T214049Z
UID:1238-1777896000-1777914000@swswf.org
SUMMARY:SUHSD Sports Injury Clinic & Wellness Center
DESCRIPTION:—This date is By Appointment Only—670 L Street\, Suite G • Chula Vista CA 91911\n\n\n\nIMPORTANT!\n\n\n\nBring Completed Referral FORM with you.Appointment Info: All minors MUST be accompanied by a parent or guardian. \n\n\n\nDownload: L Street Referral Form
URL:https://swswf.org/event/suhsd-sports-injury-clinic-wellness-center-3/
LOCATION:SUHSD Sports Injury Clinic & Wellness Center\, 670 L Street\, Suite G\, Chula Vista\, California\, 91911\, United States
CATEGORIES:L Street Center
ATTACH;FMTTYPE=image/jpeg:https://swswf.org/wp-content/uploads/2024/10/Event_SUHSD_700x5000.jpg
END:VEVENT
BEGIN:VEVENT
DTSTART;TZID=UTC:20260507T120000
DTEND;TZID=UTC:20260507T170000
DTSTAMP:20260423T120103
CREATED:20250725T184553Z
LAST-MODIFIED:20251203T215000Z
UID:1310-1778155200-1778173200@swswf.org
SUMMARY:SUHSD Sports Injury Clinic & Wellness Center
DESCRIPTION:—This date is By Appointment Only—670 L Street\, Suite G • Chula Vista CA 91911\n\n\n\nIMPORTANT!\n\n\n\nBring Completed Referral FORM with you.Appointment Info: All minors MUST be accompanied by a parent or guardian. \n\n\n\nDownload: L Street Referral Form
URL:https://swswf.org/event/suhsd-sports-injury-clinic-wellness-center-23/
LOCATION:SUHSD Sports Injury Clinic & Wellness Center\, 670 L Street\, Suite G\, Chula Vista\, California\, 91911\, United States
CATEGORIES:L Street Center
ATTACH;FMTTYPE=image/jpeg:https://swswf.org/wp-content/uploads/2024/10/Event_SUHSD_700x5000.jpg
END:VEVENT
BEGIN:VEVENT
DTSTART;TZID=UTC:20260511T120000
DTEND;TZID=UTC:20260511T170000
DTSTAMP:20260423T120103
CREATED:20250725T184404Z
LAST-MODIFIED:20251203T214114Z
UID:1302-1778500800-1778518800@swswf.org
SUMMARY:SUHSD Sports Injury Clinic & Wellness Center
DESCRIPTION:—This date is By Appointment Only—670 L Street\, Suite G • Chula Vista CA 91911\n\n\n\nIMPORTANT!\n\n\n\nBring Completed Referral FORM with you.Appointment Info: All minors MUST be accompanied by a parent or guardian. \n\n\n\nDownload: L Street Referral Form
URL:https://swswf.org/event/suhsd-sports-injury-clinic-wellness-center-19/
LOCATION:SUHSD Sports Injury Clinic & Wellness Center\, 670 L Street\, Suite G\, Chula Vista\, California\, 91911\, United States
CATEGORIES:L Street Center
ATTACH;FMTTYPE=image/jpeg:https://swswf.org/wp-content/uploads/2024/10/Event_SUHSD_700x5000.jpg
END:VEVENT
BEGIN:VEVENT
DTSTART;TZID=UTC:20260514T120000
DTEND;TZID=UTC:20260514T170000
DTSTAMP:20260423T120103
CREATED:20250725T185321Z
LAST-MODIFIED:20251203T215024Z
UID:1342-1778760000-1778778000@swswf.org
SUMMARY:SUHSD Sports Injury Clinic & Wellness Center
DESCRIPTION:—This date is By Appointment Only—670 L Street\, Suite G • Chula Vista CA 91911\n\n\n\nIMPORTANT!\n\n\n\nBring Completed Referral FORM with you.Appointment Info: All minors MUST be accompanied by a parent or guardian. \n\n\n\nDownload: L Street Referral Form
URL:https://swswf.org/event/suhsd-sports-injury-clinic-wellness-center-39/
LOCATION:SUHSD Sports Injury Clinic & Wellness Center\, 670 L Street\, Suite G\, Chula Vista\, California\, 91911\, United States
CATEGORIES:L Street Center
ATTACH;FMTTYPE=image/jpeg:https://swswf.org/wp-content/uploads/2024/10/Event_SUHSD_700x5000.jpg
END:VEVENT
BEGIN:VEVENT
DTSTART;TZID=UTC:20260518T120000
DTEND;TZID=UTC:20260518T170000
DTSTAMP:20260423T120103
CREATED:20250725T185131Z
LAST-MODIFIED:20251203T214136Z
UID:1334-1779105600-1779123600@swswf.org
SUMMARY:SUHSD Sports Injury Clinic & Wellness Center
DESCRIPTION:—This date is By Appointment Only—670 L Street\, Suite G • Chula Vista CA 91911\n\n\n\nIMPORTANT!\n\n\n\nBring Completed Referral FORM with you.Appointment Info: All minors MUST be accompanied by a parent or guardian. \n\n\n\nDownload: L Street Referral Form
URL:https://swswf.org/event/suhsd-sports-injury-clinic-wellness-center-35/
LOCATION:SUHSD Sports Injury Clinic & Wellness Center\, 670 L Street\, Suite G\, Chula Vista\, California\, 91911\, United States
CATEGORIES:L Street Center
ATTACH;FMTTYPE=image/jpeg:https://swswf.org/wp-content/uploads/2024/10/Event_SUHSD_700x5000.jpg
END:VEVENT
BEGIN:VEVENT
DTSTART;TZID=UTC:20260521T120000
DTEND;TZID=UTC:20260521T170000
DTSTAMP:20260423T120103
CREATED:20250725T184024Z
LAST-MODIFIED:20251203T215147Z
UID:1288-1779364800-1779382800@swswf.org
SUMMARY:SUHSD Sports Injury Clinic & Wellness Center
DESCRIPTION:—This date is By Appointment Only—670 L Street\, Suite G • Chula Vista CA 91911\n\n\n\nIMPORTANT!\n\n\n\nBring Completed Referral FORM with you.Appointment Info: All minors MUST be accompanied by a parent or guardian. \n\n\n\nDownload: L Street Referral Form
URL:https://swswf.org/event/suhsd-sports-injury-clinic-wellness-center-12/
LOCATION:SUHSD Sports Injury Clinic & Wellness Center\, 670 L Street\, Suite G\, Chula Vista\, California\, 91911\, United States
CATEGORIES:L Street Center
ATTACH;FMTTYPE=image/jpeg:https://swswf.org/wp-content/uploads/2024/10/Event_SUHSD_700x5000.jpg
END:VEVENT
END:VCALENDAR